Workbook

Sheet ISCRITTI A.S. 2018-2019
A3: ALUNNI A,S, 2018/2019
A5: SCUOLA PRIMARIA ROSIGNANO | F5: SCUOLA PRIMARIA FRASSINELLO
A7: ROSIGNANO | B7: 28 | F7: FRASSINELLO | G7: 6 | I7: =+G7+G9+G11+G13 -> 15
A9: CELLA MONTE | B9: 16 | F9: OTTIGLIO | G9: 9
A11: FRASSINELLO | B11: 4
A13: OTTIGLIO | B13: 2
A15: ALTRI
B17: =SUM(B7:B16) -> 50
A20: SCUOLA INFANZIA CELLAMONTE
A22: ROSIGNANO | B22: 11 | D22: =+B22+B24+B26 -> 20
A24: CELLA MONTE | B24: 4
A26: FRASSINELLO | B26: 5
A28: OTTIGLIO | B28: 1
B31: =SUM(B22:B30) -> 21
A34: SCUOLA SECONDARIA S. Mrtino
A36: ROSIGNANO | B36: 29 | D36: =+B36+B38+B40+B42+B44 -> 44
A38: CELLA MONTE | B38: 13
A40: FRASSINELLO | B40: 1
A42: OTTIGLIO
A44: S. GIORGIO | B44: 1
B48: =SUM(B36:B47) -> 44

Sheet MENSA
A2: SPESE SOSTENUTE DALL'UNIONE
A3: MENSE | C3: DAL 12/09/2018 AL 31/12/2018 | L3: DAL 01/01/2019 AL 19/09/2019
A5: SCUOLA PRIMARIA ROSIGNANO | B5: SPESE | D5: ALUNNI ISCRITTI | F5: QUOTA PARTE | H5: SCUOLA PRIMARIA ROSIGNANO | K5: SPESE | M5: ALUNNI ISCRITTI | O5: QUOTA PARTE
A7: CASA RIPOSO (CAP, 1466) | C7: 8727.2 | D7: ROSIGNANO | E7: 28 | F7: =C15/50*E7 -> 894.9808 | H7: CASA RIPOSO (CAP, 1466) | L7: 12982.57 | M7: ROSIGNANO | N7: 28 | O7: =L15/50*N7 -> 4970.3584
A9: SENAPE SERVIZI SCOLASTICI | C9: 8385.98 | D9: CELLA MONTE | E9: 16 | F9: =C15/50*E9 -> 511.4176 | H9: SENAPE SERVIZI SCOLASTICI | L9: 5683.07 | M9: CELLA MONTE | N9: 16 | O9: =L15/50*N9 -> 2840.2048
A14: A DEDURRE BUONI PASTO | C14: =17115-1600 -> 15515 | D14: FRASSINELLO | E14: 4 | F14: =C15/50*E14 -> 127.8544 | H14: A DEDURRE BUONI PASTO | L14: =11460-1670 -> 9790 | M14: FRASSINELLO | N14: 4 | O14: =L15/50*N14 -> 710.0512
A15: TOTALE | C15: =C7+C11-C14+C12+C9 -> 1598.18 | H15: TOTALE | L15: =SUM(L7:L11)-L14 -> 8875.64
D16: OTTIGLIO | E16: 2 | F16: =C15/50*E16 -> 63.9272 | M16: OTTIGLIO | N16: 2 | O16: =L15/50*N16 -> 355.0256
F17: =SUM(F7:F16) -> 1598.18 | N17: =SUM(N7:N16) -> 50
A21: SCUOLA PRIMARIA FRASSINELLO | H21: SCUOLA PRIMARIA FRASSINELLO
A22: APS SCODELLAMENTO | C22: 780 | D22: OTTIGLIO | E22: 9 | F22: =C25/15*E22 -> 403.146
A23: CASA RIPOSO (CAP, 1466) | C23: 1891.91 | H23: CASA RIPOSO (CAP, 1466) | L23: 2604.59 | M23: OTTIGLIO | N23: 9 | O23: =L26/15*N23 -> 1418.754
A24: A DEDURRE BUONI PASTO | C24: 2000 | D24: FRASSINELLO | E24: 6 | F24: =+C25/15*E24 -> 268.764 | H24: APS SCODELLAMENTO | L24: 1430
A25: totale | C25: =+C22+C23-C24 -> 671.91 | H25: A DEDURRE BUONI PASTO | L25: 1670 | M25: FRASSINELLO | N25: 6 | O25: =+L26/15*N25 -> 945.836
A26: MATERNA CELLA MONTE | B26: SPESE | D26: ALUNNI ISCRITTI | F26: QUOTA PARTE | H26: totale | K26: SPESE | L26: =+L23+L24-L25 -> 2364.59
H27: MATERNA CELLA MONTE
A28: ANTONELLI ELISA (INTOLLERANZE ALIM)
A29: GRAFICHE E GASPARI (ACQUISTO BLOCCH. MENSA) | C29: 645.14
A30: CASA DI RIPOSO | H30: DIMAR | L30: 3744.1
D31: ROSIGNANO | E31: 11 | F31: =C41/21*E31 -> -5695.4752 | M31: ROSIGNANO | N31: 11 | O31: =L42/21*N31 -> 4108.0233
A32: DIMAR | C32: 1611.71 | D32: A CREDITO
D33: CELLA MONTE | E33: 4 | F33: =C41/21*E33 -> -2071.0819 | M33: CELLA MONTE | N33: 4 | O33: =L42/21*N33 -> 1493.8267
A34: LA DISPENSA | C34: 5066.64 | D34: A CREDITO | R34: =+L14+L25+L41+L48 -> 34536.47
H35: LA DISPENSA | L35: =8357.73+927.89 -> 9285.62
A36: IDROGEOLAB | C36: 858.88
D37: FRASSINELLO | E37: 5 | F37: =C41/21*E37 -> -2588.8524 | H37: IDROGEOLAB | L37: 1424.96 | M37: FRASSINELLO | N37: 5 | O37: =L42/21*N37 -> 1867.2833
A38: QUOTA PARTE CUOCA | C38: 6659.45 | D38: A CREDITO
H39: QUOTA PARTE CUOCA | L39: 11672.91 | M39: OTTIGLIO | N39: 1 | O39: =L42/21*N39 -> 373.45667
A40: A DEDURRE BUONI PASTO | C40: 25715 | D40: OTTIGLIO | E40: 1 | F40: =C41/21*E40 -> -517.77048
A41: TOTALE | C41: =SUM(C29:C39)-C40 -> -10873.18 | H41: A DEDURRE BUONI PASTO | L41: 18285
A42: totale alunni iscritti 38 | F42: =SUM(F31:F41) -> -10873.18 | H42: TOTALE | L42: =SUM(L30:L40)-L41 -> 7842.59 | N42: =SUM(N31:N41) -> 21 | O42: =SUM(O31:O41) -> 7842.59
A44: CELLA MONTE NIDO
A45: CASA DI RIPOSO | C45: 554.11 | H45: CELLA MONTE NIDO
A46: QUOTA PARTE CUOCA | C46: 4205.97 | H46: LA DISPENSA (acquisto alimenti)QUOTA PARTE | L46: 3724.81
A47: LA DISPENSA (acquisto alimenti)QUOTA PARTE SU N. 24 ALUNNI | C47: 2576.69 | H47: QUOTA PARTE CUOCA | L47: 7372.36
A48: A DEDURRE BUONI PASTO | C48: 7575 | H48: A DEDURRE BUONI PASTO | L48: 4791.47
A49: TOTALE | C49: =+C45+C46+C47-C48 -> -238.23 | H49: TOTALE | L49: =+L46+L47-L48 -> 6305.7 | S49: =35455/71 -> 499.3662
S50: =+S49*21 -> 10486.69
A53: STIPENDIO ANNUO CAVAGNOLO COMPRENSIVO O.R. | C53: 29918.3
A56: COSTO MENSA RIPARTITO PER COMUNI A.S. 2018/19
A58: ROSIGNANO | B58: =F7+O7+O31+F31-C53 -> -25640.413 | C58: N.B. AL NETTO DEL COSTO CUOCA
A60: CELLA MONTE | B60: =F9+O9+O33+F33+C49+L49 -> 8841.8372
A62: FRASSINELLO | B62: =F14+O14+O37+F37+F24+O25 -> 1330.9366
A64: OTTIGLIO | B64: =F16+O16+F40+O39+F22+O23 -> 2096.539
A66: SAN GIORGIO | B66: 0

Sheet SPESE GENERALI 
A1: ANNO 2018
A3: SPESE GENERALI DI GESTIONE
A4: ALPINI (PROT.CIVILE) | B4: SOLO ROSIGNANO, CELLA MONTE,FRASSINELLO, SAN GIORGIO | H4: 4000
A5: ACI PRA
A6: REVISORE (SICA LUIGI) | F6: 1948.88
A7: SISCOM | F7: 2440
A8: LAN SERVICE | F8: 3838.12
A9: EPUBLIC | F9: 451.4
A10: API | F10: 600.01
A11: STAT TURISMO | F11: 1078
A12: INFORMA PER CEDOLINI | F12: 2137.14
A13: GRAFICHE E GASPERI (CORSO ON LINE ANTICORRUZ)
A14: PUBBLITALIA
A15: UNIPOL ASSICURAZ.(AUTOCARRO VIGILANZA) | F15: 655.05
A16: ANCITEL | F16: 1462.78
A17: SPESE DI TESORERIA | F17: 2200
A18: INDENNITA' GRIGO' | F18: 325
A19: INDENNITA' ORCIUOLI | F19: 3250
A20: INDENNITA' ROVETTO | F20: 2031.05
A21: Oneri riflessi | F21: 2698.7
F23: =SUM(F6:F22) -> 25116.13
C25: AB 2018
A26: ROSIGNANO | C26: 1511 | D26: =F23/C32*C26+1000 -> 8852.3634 | E26: (1)
A27: CELLA MONTE | C27: 499 | D27: =F23*C27/C32+1000 -> 3593.2027 | E27: (1)
A28: FRASSINELLO | C28: 500 | D28: =F23/C32*C28+1000 -> 3598.3995 | E28: (1)
A29: OTTIGLIO | C29: 614 | D29: =F23/C32*C29 -> 3190.8346
A30: SAN GIORGIO | C30: 1215 | D30: =F23/C32*C30+1000 -> 7314.1109 | E30: (1)
A31: CAMAGNA | C31: 494 | D31: =F23/C32*C31 -> 2567.2188
C32: =SUM(C26:C31) -> 4833 | D32: =SUM(D26:D31) -> 29116.13
A35: (1) comprensivo di € 1000 per Alpini

Sheet SCUOLABUS
A1: SPESE SOSTENUTE DALL'UNIONE
A2: SCUOLABUS (scuola media,elementare,materna Rosignano e Cella Monte) | B2: DAL 12/09/2018 AL 31/12/2018 | M2: DAL 01/01/2019 AL 19/09/2019
A4: DEAMBROSIS | C4: 824.74 | D4: ALUNNI SCUOLABUS | F4: QUOTA PARTE | O4: ALUNNI SCUOLABUS | Q4: QUOTA PARTE
A5: BIASI DINO | C5: 699.32 | H5: BIASI DINO | M5: 6174.03
A6: BYEM | C6: 483.12 | H6: AUTORIPARAZIONE BOLTRI
D7: ROSIGNANO | E7: 35 | F7: =C23/E18*E7 -> 5879.5046 | H7: DEAMBROSIS | M7: 250.1 | O7: ROSIGNANO | P7: 35 | Q7: =M23/P18*P7 -> 7838.8638
A8: SENAPE PER AUTISTA | C8: 2871 | H8: BYEM | M8: 1150.46
D9: CELLA MONTE | E9: 26 | F9: =C23/E18*E9 -> 4367.632 | H9: SENAPE PER AUTISTA | M9: 3480 | O9: CELLA MONTE | P9: 26 | Q9: =M23/P18*P9 -> 5823.156
A10: ALLARA PRATICHE AUTO | C10: 160.2
A11: ASSICURAZIONE SCUOLABUS | H11: ASSICURAZIONE SCUOLABUS | M11: =3225-1075 -> 2150
A12: AUTISTA ROSIGNANO | C12: 5691.76 | D12: SAN GIORGIO | E12: 1 | F12: =C23/E18*E12 -> 167.98585 | H12: AUTISTA ROSIGNANO | M12: 7114.74 | O12: SAN GIORGIO | P12: 1 | Q12: =M23/P18*P12 -> 223.96754
A13: AUTISTA CELLA MONTE Mazzucco M. | C13: 5259.26 | H13: AUTISTA CELLA MONTE SENAPE
A14: CARBURANTE SCUOLABUS | C14: 1692.18 | D14: FRASSINELLO | E14: 2 | F14: =C23/E18*E14 -> 335.97169 | H14: CARBURANTE SCUOLABUS | M14: 3023.56 | O14: FRASSINELLO | P14: 2 | Q14: =M23/P18*P14 -> 447.93508
A15: TOTALE | B15: =SUM(B4:B14) -> 0 | C15: =C4+C5+C6+C10+C11+C12+C13+C14+C8 -> 17681.58 | H15: TOTALE SPESA | M15: =M5+M6+M7+M11+M12+M13+M14+M8+M9 -> 23342.89
D16: OTTIGLIO | E16: 1 | F16: =C23/E18*E16 -> 167.98585 | O16: OTTIGLIO | P16: 1 | Q16: =M23/P18*P16 -> 223.96754
A17: A DEDURRE | H17: A DEDURRE
A18: RETTE MATERNA | C18: 240 | E18: =SUM(E7:E17) -> 65 | F18: =SUM(F7:F17) -> 10919.08 | H18: RETTE MATERNA | M18: 540 | P18: =SUM(P7:P17) -> 65 | Q18: =SUM(Q7:Q17) -> 14557.89
A19: RETTE ELEMENTARI | C19: 3115 | H19: RETTE ELEMENTARI | M19: 4785
A20: RETTE MEDIE | C20: 3407.5 | H20: RETTE MEDIE | M20: 3460
A21: TOTALE INCASSI | C21: =SUM(C18:C20) -> 6762.5 | K21: TOTALE INCASSI | M21: =SUM(M18:M20) -> 8785
A23: SPESA NETTA | C23: =C15-C21 -> 10919.08 | H23: SPESA NETTA | M23: =M15-M21 -> 14557.89
A26: COSTO AUTISTA ROSIGNANO | C26: 12806.5
A28: RIMBORSO CARBURANTE ROSIGNANO | C28: 1692.18 | H28: RIMBORSO CARBURANTE ROSIGNANO | J28: 3023.56
A30: COSTO AUTISTA CELLA M. (n. 15h/sett) | D30: 5259.26
A33: SCUOLABUS FRASSINELLO
A34: ASSICURAZIONE SCUOLABUS FRASSINELLO | C34: 1075 | D34: FRASSINELLO | E34: 7 | F34: =C36/E38*E34 -> 2870.2917
A35: BIASI DINO | C35: =3052.4+793.1 -> 3845.5
A36: TOTALE SCUOLABUS FRASSINELLO | C36: =SUM(C34:C35) -> 4920.5 | D36: OTTIGLIO | E36: 5 | F36: =C36/E38*E36 -> 2050.2083
E38: 12
A39: COSTO SCUOLABUS RIPARTITO PER COMUNI A.S.2018/19
A41: ROSIGNANO | B41: =F7+Q7-C14-C12-M12-M14 -> -3803.8715 | C41: N.B. AL NETTO DEL COSTO AUTISTA E CARBURANTE
A43: CELLA MONTE | B43: =F9+Q9-C13-M13 -> 4931.528 | C43: N.B. AL NETTO DEL COSTO AUTISTA
A45: FRASSINELLO | B45: =F14+Q14+F34 -> 3654.1984
A47: OTTIGLIO | B47: =+F16+Q16+F36 -> 2442.1617
A49: SAN GIORGIO | B49: =F12+Q12 -> 391.95338
B52: =SUM(B41:B49) -> 7615.97

Sheet SPESE PER SCUOLE
C1: 2018 | H1: 2019
A2: SPESE SOSTENUTE DALL'UNIONE
A5: SCUOLA PRIMARIA ROSIGNANO | H5: SCUOLA PRIMARIA ROSIGNANO
A6: spese sostenute dall'unione | H6: H&C SRL
A7: UTENZE RENDICONTATE DA ROSIGNANO 2018/19 | C7: 7243.44 | D7: ROSIGNANO | E7: 28 | F7: =C13/E15*E7 -> 4948.9384 | H7: GUERRINA | I7: 494.94 | J7: ROSIGNANO | K7: 28 | L7: =I13/K15*K7 -> 529.1664
H8: DOPOSCUOLA | I8: 450
A9: H&C SRL (CENTRALE TERMICA) | C9: 740.54 | D9: CELLA MONTE | E9: 16 | F9: =C13/E15*E9 -> 2827.9648 | J9: CELLA MONTE | K9: 16 | L9: =I13/K15*K9 -> 302.3808
A10: GUERRINA (NOLEGGIO FOTOCOPIATRICE) | C10: 249.63
A11: EUROSERVIZI (ACQUISTO MATERIALE) | C11: 603.78 | D11: FRASSINELLO | E11: 4 | F11: =C13/E15*E11 -> 706.9912 | J11: FRASSINELLO | K11: 4 | L11: =I13/K15*K11 -> 75.5952
A13: TOTALE | C13: =C4+C7+C9+C10+C11+C12 -> 8837.39 | D13: OTTIGLIO | E13: 2 | F13: =C13/E15*E13 -> 353.4956 | H13: TOTALE | I13: =SUM(I6:I11) -> 944.94 | J13: OTTIGLIO | K13: 2 | L13: =I13/K15*K13 -> 37.7976
A15: SCUOLA PRIMARIA FRASSINELLO | E15: =SUM(E7:E14) -> 50 | F15: =SUM(F7:F14) -> 8837.39 | G15: ok | H15: SCUOLA PRIMARIA FRASSINELLO | K15: =SUM(K7:K14) -> 50 | L15: =SUM(L7:L14) -> 944.94
A16: NON MI RISULTANO SPESE
A18: NIDO CELLA MONTE
A19: FARMACIA SANTA BARBARA | C19: 123.8
A21: MATERNA CELLA MONTE | H21: MATERNA CELLA MONTE | J21: ROSIGNANO | K21: 11 | L21: =I29/21*K21 -> 148.25905
A22: sostenute dall'Unione
D23: ROSIGNANO | E23: 11 | F23: =C31/21*E23 -> 6352.5733
A24: BRICO | H24: BRICO | I24: 179.95
A25: DEGRAFIC(STAMPE TSHIRT OLIMPIADI) | H25: BIEFFE | J25: CELLA MONTE | K25: 4 | L25: =I29/21*K25 -> 53.912381
A26: COPPO LORENZO | C26: 5882.84 | H26: BABANDO
D27: CELLA MONTE | E27: 4 | F27: =C31/21*E27 -> 2310.0267 | H27: DEGRAFIC | I27: 103.09 | J27: FRASSINELLO | K27: 5 | L27: =I29/21*K27 -> 67.390476
D29: FRASSINELLO | E29: 5 | F29: =C31/21*E29 -> 2887.5333 | H29: TOTALE | I29: =SUM(I24:I28) -> 283.04 | J29: OTTIGLIO | K29: 1 | L29: =I29/21*K29 -> 13.478095
A30: RENDICONTATE DA CELLA MONTE | C30: 6244.8 | L30: =SUM(L21:L29) -> 283.04
A31: TOTALE | C31: =C23+C24+C25+C30+C26 -> 12127.64 | D31: OTTIGLIO | E31: 1 | F31: =C31/21*E31 -> 577.50667
F32: =SUM(F23:F31) -> 12127.64
A33: SCUOLA SECONDARIA S. Martino | H33: SCUOLA SECONDARIA S. Martino
D34: ROSIGNANO | E34: 29 | F34: =C39/44*E34 -> 4741.9086 | H34: FARMACIA SANTA BARBARA | I34: 46.9 | J34: ROSIGNANO | K34: 29 | L34: =I39/44*K34 -> 30.911364
A35: spese sostenute dall'unione
D36: CELLA MONTE | E36: 13 | F36: =C39/44*E36 -> 2125.6832 | J36: CELLA MONTE | K36: 13 | L36: =I39/44*K36 -> 13.856818
A37: spese sostenute da comune Rosignano | C37: 7194.62
D38: FRASSINELLO | E38: 1 | F38: =C39/44*E38 -> 163.51409 | J38: FRASSINELLO | K38: 1 | L38: =I39/44*K38 -> 1.0659091
A39: TOTALE | C39: =+C37 -> 7194.62 | H39: TOTALE | I39: =SUM(I34:I38) -> 46.9
D40: OTTIGLIO | F40: =C39/42*E40 -> 0 | J40: OTTIGLIO | L40: =I39/42*K40 -> 0
D42: S. GIORGIO | E42: 1 | F42: =C39/44*E42 -> 163.51409 | J42: S. GIORGIO | K42: 1 | L42: =I39/44*K42 -> 1.0659091
F44: =SUM(F34:F43) -> 7194.62 | L44: =SUM(L34:L43) -> 46.9
E45: =SUM(E34:E44) -> 44 | K45: =SUM(K34:K44) -> 44
A46: ROSIGNANO | B46: =+F7+L7+F23+L21+F34+L34-C7-C37 -> 2313.6972
A48: CELLA MONTE | B48: =+F9+L9+F27+L25+F36+L36-C30+C19 -> 1512.8246
A50: FRASSINELLO | B50: =+F11+L11+F29+L27+F38+L38 -> 3902.0902
A52: OTTIGLIO | B52: =+F31+L29+L13+F13+F40+L40 -> 982.27796
A54: S. GIORGIO | B54: =+F42+L42 -> 164.58
B57: =SUM(B46:B56) -> 8875.47

Sheet DOPOSCUOLA
A2: SPESE SOSTENUTE DALL'UNIONE 2018
A3: ATTIVITA' DIDATTICA INTEVRATIVA
A5: SCUOLA PRIMARIA ROSIGNANO | B5: sett, 18/dic,18 | C5: genn,19/giug,19
A7: APS | B7: 2370 | C7: 2580 | D7: ROSIGNANO | E7: 14 | F7: =+B11/E14*E7 -> 390.09091
A9: PROVENTI 2018/2019 | B9: 4337 | D9: CELLA MONTE | E9: 5 | F9: =B11/E14*E9 -> 139.31818
A11: TOTALE COSTO | B11: =+B7+C7-B9 -> 613 | D11: FRASSINELLO | E11: 3 | F11: =B11/E14*E11 -> 83.590909
A13: SCUOLA PRIMARIA FRASSINELLO | D13: OTTIGLIO | F13: =+B12/E14*E13 -> 0
E14: =+E7+E9+E11 -> 22 | F14: =+F7+F9+F11 -> 613
A15: APS | B15: 1740 | C15: 2520
A17: PROVENTI 2018/2019 | B17: 0 | D17: FRASSINELLO | E17: 6 | F17: =+B19/E21*E17 -> 1704
A19: TOTALE COSTO | B19: =B15+C15 -> 4260 | D19: OTTIGLIO | E19: 9 | F19: =+B19/E21*E19 -> 2556
E21: 15
E23: OK
A27: ROSIGNANO | B27: =+F7 -> 390.09091
A29: CELLA MONTE | B29: =+F9 -> 139.31818
A31: FRASSINELLO | B31: =+F11+F17 -> 1787.5909
A33: OTTIGLIO | B33: =+F13+F19 -> 2556

Sheet PERSONALE 2018
A1: SPESE PERSONALE UNIONE
A2: PERSONALE | B2: ANNO 2018 | C2: ABIT | E2: RIPARTO
A4: RASO | B4: 13933.97 | C4: 1511 | D4: ROSIGNANO | E4: =B4*C4/C15 -> 4852.3228 | G4: RIEPILOGO | K4: 9
A5: (SPESA SOSTENUTA DA CELLA M., DA RIMBORSARE)
C6: 1215 | D6: SAN GIORGIO | E6: =B4*C6/C15 -> 3901.7685
G7: ROSIGNANO | H7: =+E4+E18+E32+E46+E60+E75-B18 -> 5691.8966
C8: 499 | D8: CELLA MONTE | E8: =B4*C8/C15 -> 1602.4547
G9: SAN GIORGIO | H9: =+E6+E20+E34+E48+E62+E77 -> 5908.9902
C10: 500 | D10: FRASSINELLO | E10: =B4*C10/C15 -> 1605.6661
G11: CELLA MONTE | H11: =+E8+E22+E36+E50+E64+E79-B4 -> -11507.15
B12: 494 | D12: CAMAGNA | E12: =B4*C12/C15 -> 0
G13: FRASSINELLO | H13: =+E10+E24+E38+E52+E66+E81 -> 2431.6832
C14: 614 | D14: OTTIGLIO | E14: =B4*C14/C15 -> 1971.7579
C15: =SUM(C4:C14) -> 4339 | E15: =SUM(E4:E14) -> 13933.97 | G15: CAMAGNA | H15: =+E12+E26+E40+E56+E70+E85-B46-B60 -> -3570.4768
G17: OTTIGLIO | H17: =+E14+E28+E42+E54+E68+E83-B32-B75 -> 1045.057
A18: MARTINELLI | B18: 1656.65 | C18: 1511 | D18: ROSIGNANO | E18: =B18*C18/C29 -> 576.9067 | H18: =H7+H9+H11+H13+H15+H17 -> 0
A19: (SPESA SOSTENUTA DA ROSIGNANO., DA RIMBORSARE)
C20: 1215 | D20: SAN GIORGIO | E20: =B18*C20/C29 -> 463.89254
C22: 499 | D22: CELLA MONTE | E22: =B18*C22/C29 -> 190.52048
C24: 500 | D24: FRASSINELLO | E24: =B18*C24/C29 -> 190.90228
D26: CAMAGNA | E26: =B18*C26/C29 -> 0
C28: 614 | D28: OTTIGLIO | E28: =B18*C28/C29 -> 234.428
C29: =SUM(C18:C28) -> 4339 | E29: =SUM(E18:E28) -> 1656.65
G30: OK
A32: CELORIA | B32: 1462 | C32: 1511 | D32: ROSIGNANO | E32: =B32*C32/C43 -> 509.12238
A33: (SPESA SOSTENUTA DA OTTIGLIO, DA RIMBORSARE)
C34: 1215 | D34: SAN GIORGIO | E34: =B32*C34/C43 -> 409.38696
C36: 499 | D36: CELLA MONTE | E36: =B32*C36/C43 -> 168.13505
C38: 500 | D38: FRASSINELLO | E38: =B32*C38/C43 -> 168.472
D40: CAMAGNA | E40: =B32*C40/C43 -> 0
C42: 614 | D42: OTTIGLIO | E42: =B32*C42/C43 -> 206.88361
C43: =SUM(C32:C42) -> 4339 | E43: =SUM(E32:E42) -> 1462
A46: RIVALTA CARLA | B46: 3071.65 | C46: 1511 | D46: ROSIGNANO | E46: =B46*C46/C57 -> 960.32757
A48: (SPESA SOSTENUTA DA CAMAGNA, DA RIMBORSARE) | C48: 1215 | D48: SAN GIORGIO | E48: =B46*C48/C57 -> 772.20251
C50: 499 | D50: CELLA MONTE | E50: =B46*C50/C57 -> 317.14325
C52: 500 | D52: FRASSINELLO | E52: =B46*C52/C57 -> 317.77881
C54: 614 | D54: OTTIGLIO | E54: =B46*C54/C57 -> 390.23238
C56: 494 | D56: CAMAGNA | E56: =B46*C56/C57 -> 313.96547
C57: =SUM(C46:C56) -> 4833 | E57: =SUM(E46:E56) -> 3071.65
A60: GRIGO' ALESSANDRO | B60: 959.87 | C60: 1511 | D60: ROSIGNANO | E60: =B60*C60/C71 -> 300.09592
A62: (SPESA SOSTENUTA DA CAMAGNA, DA RIMBORSARE) | C62: 1215 | D62: SAN GIORGIO | E62: =B60*C62/C71 -> 241.3081
C64: 499 | D64: CELLA MONTE | E64: =B60*C64/C71 -> 99.105138
C66: 500 | D66: FRASSINELLO | E66: =B60*C66/C71 -> 99.303745
C68: 614 | D68: OTTIGLIO | E68: =B60*C68/C71 -> 121.945
C70: 494 | D70: CAMAGNA | E70: =B60*C70/C71 -> 98.1121
C71: =SUM(C60:C70) -> 4833 | E71: =SUM(E60:E70) -> 959.87
E73: =E15+E29+E43+E57+E71 -> 21084.14
A75: ROVETTO MICHELA | B75: 479.05 | C75: 1511 | D75: ROSIGNANO | E75: =B75*C75/C86 -> 149.77127
A76: dall'1/11/18 al 31/12/18
A77: (SPESA SOSTENUTA DA OTTIGLIO, DA RIMBORSARE) | C77: 1215 | D77: SAN GIORGIO | E77: =B75*C77/C86 -> 120.43156
C79: 499 | D79: CELLA MONTE | E79: =B75*C79/C86 -> 49.461194
C81: 500 | D81: FRASSINELLO | E81: =B75*C81/C86 -> 49.560315
C83: 614 | D83: OTTIGLIO | E83: =B75*C83/C86 -> 60.860066
C85: 494 | D85: CAMAGNA | E85: =B75*C85/C86 -> 48.965591
C86: =SUM(C75:C85) -> 4833 | E86: =SUM(E75:E85) -> 479.05

Sheet RIEPILOGO
A2: RIEPILOGO
B4: MENSA A.S. 2018/2019 | D4: SCUOLABUS A.S. 2018/2019 | F4: SPESE PER SCUOLE A.S. 2018/2019 | G4: SPESE GENERALI ANNO 2018 | H4: DOPOSCUOLA A.S. 2018/2019 | I4: CENTRI ESTIVI ANNO 2019 GESTITO DA SENAPE | J4: PERSONALE 2018 | K4: ASL 2018 COSTO DA RIMBORSARE ALLA PARI | L4: (3) | M4: ACCONTI VERSATI NO | O4: SALDO
A6: ROSIGNANO | B6: =MENSA!B58 -> -25640.413 | D6: =+SCUOLABUS!B41 -> -3803.8715 | F6: =+'SPESE PER SCUOLE'!B46 -> 2313.6972 | G6: =+'SPESE GENERALI '!D26 -> 8852.3634 | H6: =+DOPOSCUOLA!B27 -> 390.09091 | J6: =+'PERSONALE 2018'!H7 -> 5691.8966 | O6: =SUM(B6:N6) -> -12196.236
A8: SAN GIORGIO | B8: =+MENSA!B66 -> 0 | D8: =+SCUOLABUS!B49 -> 391.95338 | F8: =+'SPESE PER SCUOLE'!B54 -> 164.58 | G8: =+'SPESE GENERALI '!D30 -> 7314.1109 | H8: =+DOPOSCUOLA!F15 -> 0 | J8: =+'PERSONALE 2018'!H9 -> 5908.9902 | O8: =SUM(B8:N8) -> 13779.634
A10: CELLA MONTE | B10: =+MENSA!B60 -> 8841.8372 | D10: =+SCUOLABUS!B43 -> 4931.528 | F10: =+'SPESE PER SCUOLE'!B48 -> 1512.8246 | G10: =+'SPESE GENERALI '!D27 -> 3593.2027 | H10: =+DOPOSCUOLA!B29 -> 139.31818 | J10: =+'PERSONALE 2018'!H11 -> -11507.15 | O10: =SUM(B10:N10) -> 7511.5606
A12: FRASSINELLO | B12: =+MENSA!B62 -> 1330.9366 | D12: =+SCUOLABUS!B45 -> 3654.1984 | F12: =+'SPESE PER SCUOLE'!B50 -> 3902.0902 | G12: =+'SPESE GENERALI '!D28 -> 3598.3995 | H12: =+DOPOSCUOLA!B31 -> 1787.5909 | J12: =+'PERSONALE 2018'!H13 -> 2431.6832 | O12: =SUM(B12:N12) -> 16704.899
A14: OTTIGLIO | B14: =+MENSA!B64 -> 2096.539 | D14: =+SCUOLABUS!B47 -> 2442.1617 | F14: =+'SPESE PER SCUOLE'!B52 -> 982.27796 | G14: =+'SPESE GENERALI '!D29 -> 3190.8346 | H14: =+DOPOSCUOLA!F21 -> 0 | J14: =+'PERSONALE 2018'!H17 -> 1045.057 | O14: =SUM(B14:N14) -> 9756.8703
A16: CAMAGNA | G16: =+'SPESE GENERALI '!D31 -> 2567.2188 | H16: =+DOPOSCUOLA!F23 -> 0 | J16: =+'PERSONALE 2018'!H15 -> -3570.4768 | O16: =SUM(B16:N16) -> -1003.2581
B17: =SUM(B6:B16) -> -13371.1 | C17: =SUM(C6:C16) -> 0 | D17: =SUM(D6:D16) -> 7615.97 | E17: =SUM(E6:E16) -> 0 | F17: =SUM(F6:F16) -> 8875.47 | G17: =SUM(G6:G16) -> 29116.13 | H17: =SUM(H6:H16) -> 2317 | I17: =SUM(I6:I16) -> 0 | ... M17: =SUM(M6:M16) -> 0 | O17: =SUM(O6:O16) -> 34553.47

Sheet IPOTESI DI RIPARTO 48750
A2: CONTRIBUTO REGIONALE 2017
A4: INCASSATO 48.750
A8: IPOTESI DI RIPARTO (PER ABITANTI)
A10: COMUNI | B10: ABITANTI | D10: IMPORTO | F10: SPESE DA DEDURRE | G10: CONTRIBUTO DA EROGARE AI COMUNI | H10: QUOTA A CARICO DEI COMUNI
A11: ROSIGNANO MONFERRATO | B11: 1511 | D11: =D18/B18*B11 -> 16976.55 | F11: =+RIEPILOGO!O6 -> -12196.236 | G11: =+D11-F11 -> 29172.786
A12: SAN GIORGIO MONFERRATO | B12: 1215 | D12: =D18/B18*B12 -> 13650.899 | F12: =+RIEPILOGO!O8 -> 13779.634 | H12: =+D12-F12 -> -128.73564
A13: CELLA MONTE | B13: 499 | D13: =D18/B18*B13 -> 5606.4185 | F13: =RIEPILOGO!O10 -> 7511.5606 | H13: =+D13-F13 -> -1905.142
A14: FRASSINELLO MONFERRATO | B14: 500 | D14: =D18/B18*B14 -> 5617.6538 | F14: =RIEPILOGO!O12 -> 16704.899 | H14: =+D14-F14 -> -11087.245
A15: OTTIGLIO | B15: 614 | D15: =D18/B18*B15 -> 6898.4789 | F15: =+RIEPILOGO!O14 -> 9756.8703 | H15: =+D15-F15 -> -2858.3914
A16: CAMAGNA | D16: =D18/B18*B16 -> 0 | F16: =+RIEPILOGO!O16 -> -1003.2581 | G16: =+D16-F16 -> 1003.2581
A18: TOTALE | B18: =SUM(B11:B17) -> 4339 | D18: 48750
A21: N.B. NEL 2017 CAMAGNA NON PRESENTE IN UNIONE
